BEGIN:VCALENDAR
VERSION:2.0
PRODID:-//HIIT Australia - ECPv4.9.13//NONSGML v1.0//EN
CALSCALE:GREGORIAN
METHOD:PUBLISH
X-WR-CALNAME:HIIT Australia
X-ORIGINAL-URL:https://kawana.hiitstation.com.au
X-WR-CALDESC:Events for HIIT Australia
BEGIN:VTIMEZONE
TZID:Australia/Brisbane
BEGIN:STANDARD
TZOFFSETFROM:+1000
TZOFFSETTO:+1000
TZNAME:AEST
DTSTART:20200101T000000
END:STANDARD
END:VTIMEZONE
BEGIN:VEVENT
DTSTART;TZID=Australia/Brisbane:20200226T093000
DTEND;TZID=Australia/Brisbane:20200226T103000
DTSTAMP:20200229T220849
CREATED:20180801T035113Z
LAST-MODIFIED:20180801T035113Z
UID:48884-1582709400-1582713000@kawana.hiitstation.com.au
SUMMARY:Child Minding
DESCRIPTION:Child Minding – Kawana\n\nAll children must be booked in for childminding\, unfortunately if they have not been accounted for through the booking process the staff will be unable to watch them that day and you will need to make alternate arrangements.\nA minimum of 24 hours notice must be given to cancel your booking. If you do not cancel a booking you have made and your child does not attend\, your child/children will carry a ban from the service for a 7 day period.\nTo cancel you must use the “Unregister From This Event” link in the confirmation email that you receive when booking.\nWe ask that all parents head straight into the gym in preparation for demonstrations once a staff member enters the kids room at 9:20am.\nIf your child/children are upset\, misbehaving or need a nappy change our staff will inform the parent.\nIf your child has a bottle\, dummy or comforter please let the staff know.\nNO FOOD IS ALLOWED (bottles acceptable)\n\n
URL:https://kawana.hiitstation.com.au/event/childminding/2020-02-26/
LOCATION:HIIT Kawana\, 7/10 Capital Place\, Birtinya\, QLD\, 4575\, Australia
GEO:-26.7369224;153.1212049
X-APPLE-STRUCTURED-LOCATION;VALUE=URI;X-ADDRESS=HIIT Kawana 7/10 Capital Place Birtinya QLD 4575 Australia;X-APPLE-RADIUS=500;X-TITLE=7/10 Capital Place:geo:153.1212049,-26.7369224
END:VEVENT
END:VCALENDAR